BEGIN:VCALENDAR
VERSION:2.0
PRODID:-//Department Of Education//dfca5b0f-7687-43e8-8ef8-64192699aba8
BEGIN:VTIMEZONE
TZID:Australia/Sydney
TZURL:http://tzurl.org/zoneinfo-outlook/Australia/Sydney
X-LIC-LOCATION:Australia/Sydney
BEGIN:STANDARD
TZOFFSETFROM:+1100
TZOFFSETTO:+1000
TZNAME:AEST
DTSTART:19700405T030000
RRULE:FREQ=YEARLY;BYMONTH=4;BYDAY=1SU
END:STANDARD
BEGIN:DAYLIGHT
TZOFFSETFROM:+1000
TZOFFSETTO:+1100
TZNAME:AEDT
DTSTART:19701004T020000
RRULE:FREQ=YEARLY;BYMONTH=10;BYDAY=1SU
END:DAYLIGHT
END:VTIMEZONE
CALSCALE:GREGORIAN
X-WR-TIMEZONE:Australia/Sydney
BEGIN:VEVENT
DTSTART;TZID=Australia/Sydney:20200401T151000
DTEND;TZID=Australia/Sydney:20200401T180000
DTSTAMP:20200401T000000Z
UID:94676960-1c3e-4a01-9ffb-c5be51e10bf9
LOCATION:Sherwood Grange Public School Hall
SUMMARY;LANGUAGE=en-us:Student Learning Conferences
SEQUENCE:0
DESCRIPTION:This is an opportunity to speak with the classroom teacher about your child's overall progress and is an integral component of our assessment and reporting procedures.
END:VEVENT
TRANSP:TRANSPARENT
END:VCALENDAR
