BEGIN:VCALENDAR
VERSION:2.0
PRODID:-//Department Of Education//1c30b560-6b0f-4654-9e81-51b7c45da22d
BEGIN:VTIMEZONE
TZID:Australia/Sydney
TZURL:http://tzurl.org/zoneinfo-outlook/Australia/Sydney
X-LIC-LOCATION:Australia/Sydney
BEGIN:STANDARD
TZOFFSETFROM:+1100
TZOFFSETTO:+1000
TZNAME:AEST
DTSTART:19700405T030000
RRULE:FREQ=YEARLY;BYMONTH=4;BYDAY=1SU
END:STANDARD
BEGIN:DAYLIGHT
TZOFFSETFROM:+1000
TZOFFSETTO:+1100
TZNAME:AEDT
DTSTART:19701004T020000
RRULE:FREQ=YEARLY;BYMONTH=10;BYDAY=1SU
END:DAYLIGHT
END:VTIMEZONE
CALSCALE:GREGORIAN
X-WR-TIMEZONE:Australia/Sydney
BEGIN:VEVENT
DTSTART;TZID=Australia/Sydney:20200408T130005
DTEND;TZID=Australia/Sydney:20200408T150000
DTSTAMP:20200408T000000Z
UID:e3690a84-2cec-46f0-9d4e-0536b75bca61
LOCATION:Sherwood Grange Public School
SUMMARY;LANGUAGE=en-us:Easter Fair
SEQUENCE:0
DESCRIPTION:This annual event is held as a major fundraiser for our school. Students will be able to take part in a variety of games and activites, there will be stalls selling showbags, treats as well as a sausage sizzle for those wishing to buy lunch.
END:VEVENT
TRANSP:TRANSPARENT
END:VCALENDAR
