BEGIN:VCALENDAR
VERSION:2.0
PRODID:-//Department Of Education//d33a6390-6d29-4d2c-8bc5-f065f72623a8
BEGIN:VTIMEZONE
TZID:Australia/Sydney
TZURL:http://tzurl.org/zoneinfo-outlook/Australia/Sydney
X-LIC-LOCATION:Australia/Sydney
BEGIN:STANDARD
TZOFFSETFROM:+1100
TZOFFSETTO:+1000
TZNAME:AEST
DTSTART:19700405T030000
RRULE:FREQ=YEARLY;BYMONTH=4;BYDAY=1SU
END:STANDARD
BEGIN:DAYLIGHT
TZOFFSETFROM:+1000
TZOFFSETTO:+1100
TZNAME:AEDT
DTSTART:19701004T020000
RRULE:FREQ=YEARLY;BYMONTH=10;BYDAY=1SU
END:DAYLIGHT
END:VTIMEZONE
CALSCALE:GREGORIAN
X-WR-TIMEZONE:Australia/Sydney
BEGIN:VEVENT
DTSTART;VALUE=DATE:20200303
DTEND;VALUE=DATE:20200304
DTSTAMP:20200303T000000Z
UID:7cf16d6c-b732-45e4-b4fb-dae747dba10e
LOCATION:Merrylands Swimming Pool
SUMMARY;LANGUAGE=en-us:Zone Swimming Carnival
SEQUENCE:0
DESCRIPTION:Students will be competing at Merrylands Swimming Pool in the Zone Swimming Carnival. Students are required to wear full sport uniform including hat.
END:VEVENT
TRANSP:TRANSPARENT
END:VCALENDAR
