BEGIN:VCALENDAR
VERSION:2.0
PRODID:-//Department Of Education//784db4e3-0b02-4a3c-b4e9-a8f070b7caf2
BEGIN:VTIMEZONE
TZID:Australia/Sydney
TZURL:http://tzurl.org/zoneinfo-outlook/Australia/Sydney
X-LIC-LOCATION:Australia/Sydney
BEGIN:STANDARD
TZOFFSETFROM:+1100
TZOFFSETTO:+1000
TZNAME:AEST
DTSTART:19700405T030000
RRULE:FREQ=YEARLY;BYMONTH=4;BYDAY=1SU
END:STANDARD
BEGIN:DAYLIGHT
TZOFFSETFROM:+1000
TZOFFSETTO:+1100
TZNAME:AEDT
DTSTART:19701004T020000
RRULE:FREQ=YEARLY;BYMONTH=10;BYDAY=1SU
END:DAYLIGHT
END:VTIMEZONE
CALSCALE:GREGORIAN
X-WR-TIMEZONE:Australia/Sydney
BEGIN:VEVENT
DTSTART;VALUE=DATE:20200311
DTEND;VALUE=DATE:20200312
DTSTAMP:20200311T000000Z
UID:9f96fc87-07d1-4dfe-ab4e-27c7fce05328
LOCATION:Sherwood Grange Public School
SUMMARY;LANGUAGE=en-us:World's Greatest Shave
SEQUENCE:0
DESCRIPTION:As part of the Worlds Greatest Shave we will be holding a Crazy Hair Day on Wednesday 11th March where students will be able to come in mufti casual clothing wearing a crazy hairdo. Students will be required to bring in a gold coin donation.
END:VEVENT
TRANSP:TRANSPARENT
END:VCALENDAR
